BEGIN:VCALENDAR
VERSION:2.0
PRODID:-//Department Of Education//47ff3b74-196d-4f78-bd90-7af379f4a626
BEGIN:VTIMEZONE
TZID:Australia/Sydney
TZURL:http://tzurl.org/zoneinfo-outlook/Australia/Sydney
X-LIC-LOCATION:Australia/Sydney
BEGIN:STANDARD
TZOFFSETFROM:+1100
TZOFFSETTO:+1000
TZNAME:AEST
DTSTART:19700405T030000
RRULE:FREQ=YEARLY;BYMONTH=4;BYDAY=1SU
END:STANDARD
BEGIN:DAYLIGHT
TZOFFSETFROM:+1000
TZOFFSETTO:+1100
TZNAME:AEDT
DTSTART:19701004T020000
RRULE:FREQ=YEARLY;BYMONTH=10;BYDAY=1SU
END:DAYLIGHT
END:VTIMEZONE
CALSCALE:GREGORIAN
X-WR-TIMEZONE:Australia/Sydney
BEGIN:VEVENT
DTSTART;TZID=Australia/Sydney:20200312T083007
DTEND;TZID=Australia/Sydney:20200312T100024
DTSTAMP:20200312T000000Z
UID:b120b00e-bfca-4ae4-b318-3d17d4d489b3
LOCATION:The Hall, Pendle Hill High School, Cornock Ave, Toongabbie NSW 2145
SUMMARY;LANGUAGE=en-us:Selective schools test
SEQUENCE:0
DESCRIPTION:Students from Year 6 will be completing the Selective Schools test in the hall. Students need to arrive by 8:30 am. Parents should park on Cornock Ave or Knox Street.  If you have any questions, please contact the school office on 9631 9651.  
END:VEVENT
TRANSP:TRANSPARENT
END:VCALENDAR
