BEGIN:VCALENDAR
VERSION:2.0
PRODID:-//Department Of Education//6d626a62-c692-48c5-a64d-6dfdfc119335
BEGIN:VTIMEZONE
TZID:Australia/Sydney
TZURL:http://tzurl.org/zoneinfo-outlook/Australia/Sydney
X-LIC-LOCATION:Australia/Sydney
BEGIN:STANDARD
TZOFFSETFROM:+1100
TZOFFSETTO:+1000
TZNAME:AEST
DTSTART:19700405T030000
RRULE:FREQ=YEARLY;BYMONTH=4;BYDAY=1SU
END:STANDARD
BEGIN:DAYLIGHT
TZOFFSETFROM:+1000
TZOFFSETTO:+1100
TZNAME:AEDT
DTSTART:19701004T020000
RRULE:FREQ=YEARLY;BYMONTH=10;BYDAY=1SU
END:DAYLIGHT
END:VTIMEZONE
CALSCALE:GREGORIAN
X-WR-TIMEZONE:Australia/Sydney
BEGIN:VEVENT
DTSTART;VALUE=DATE:20200320
DTEND;VALUE=DATE:20200321
DTSTAMP:20200320T000000Z
UID:0b13c6c0-99b1-4176-9fd1-c99366754c9b
LOCATION:pendle Hill highschool. 
SUMMARY;LANGUAGE=en-us:Harmony day
SEQUENCE:0
DESCRIPTION:What is Harmony Week? It is a time to celebrate Australian multiculturalism, and the successful integration of migrants into our community. Australia is one of the most successful multicultural countries in the world and we should celebrate this and work to maintain it. Harmony Week is about inclusiveness, respect and belonging for all Australians, regardless of cultural or linguistic background, united by a set of core Australian values.
END:VEVENT
TRANSP:TRANSPARENT
END:VCALENDAR
