BEGIN:VCALENDAR
VERSION:2.0
PRODID:-//Department Of Education//5bc925f2-46cb-49e7-95fc-809817d091b9
BEGIN:VTIMEZONE
TZID:Australia/Sydney
TZURL:http://tzurl.org/zoneinfo-outlook/Australia/Sydney
X-LIC-LOCATION:Australia/Sydney
BEGIN:STANDARD
TZOFFSETFROM:+1100
TZOFFSETTO:+1000
TZNAME:AEST
DTSTART:19700405T030000
RRULE:FREQ=YEARLY;BYMONTH=4;BYDAY=1SU
END:STANDARD
BEGIN:DAYLIGHT
TZOFFSETFROM:+1000
TZOFFSETTO:+1100
TZNAME:AEDT
DTSTART:19701004T020000
RRULE:FREQ=YEARLY;BYMONTH=10;BYDAY=1SU
END:DAYLIGHT
END:VTIMEZONE
CALSCALE:GREGORIAN
X-WR-TIMEZONE:Australia/Sydney
BEGIN:VEVENT
DTSTART;VALUE=DATE:20200326
DTEND;VALUE=DATE:20200327
DTSTAMP:20200326T000000Z
UID:4103439b-5958-418d-8331-a035f1155081
LOCATION:pendle Hill highschool. 
SUMMARY;LANGUAGE=en-us:Fast forward interviews yr 12
SEQUENCE:0
DESCRIPTION:This in school "interviews" program is run for yr 12 students only. It is designed to provide students with support, guidance, and information about pathways to university of Western sydney.  For more information please contact Ms Talart on (02) 9631 9651
END:VEVENT
TRANSP:TRANSPARENT
END:VCALENDAR
